BEGIN:VCALENDAR
VERSION:2.0
PRODID:-//Oldsmar Connect - ECPv6.15.13.1//NONSGML v1.0//EN
CALSCALE:GREGORIAN
METHOD:PUBLISH
X-WR-CALNAME:Oldsmar Connect
X-ORIGINAL-URL:https://oldsmarconnect.com
X-WR-CALDESC:Events for Oldsmar Connect
REFRESH-INTERVAL;VALUE=DURATION:PT1H
X-Robots-Tag:noindex
X-PUBLISHED-TTL:PT1H
BEGIN:VTIMEZONE
TZID:America/New_York
BEGIN:DAYLIGHT
TZOFFSETFROM:-0500
TZOFFSETTO:-0400
TZNAME:EDT
DTSTART:20140309T070000
END:DAYLIGHT
BEGIN:STANDARD
TZOFFSETFROM:-0400
TZOFFSETTO:-0500
TZNAME:EST
DTSTART:20141102T060000
END:STANDARD
BEGIN:DAYLIGHT
TZOFFSETFROM:-0500
TZOFFSETTO:-0400
TZNAME:EDT
DTSTART:20150308T070000
END:DAYLIGHT
BEGIN:STANDARD
TZOFFSETFROM:-0400
TZOFFSETTO:-0500
TZNAME:EST
DTSTART:20151101T060000
END:STANDARD
BEGIN:DAYLIGHT
TZOFFSETFROM:-0500
TZOFFSETTO:-0400
TZNAME:EDT
DTSTART:20160313T070000
END:DAYLIGHT
BEGIN:STANDARD
TZOFFSETFROM:-0400
TZOFFSETTO:-0500
TZNAME:EST
DTSTART:20161106T060000
END:STANDARD
END:VTIMEZONE
BEGIN:VEVENT
DTSTART;TZID=America/New_York:20151205T100000
DTEND;TZID=America/New_York:20151205T120000
DTSTAMP:20260424T192730
CREATED:20151124T024105Z
LAST-MODIFIED:20151124T024105Z
UID:847-1449309600-1449316800@oldsmarconnect.com
SUMMARY:Your Road To Owning A Home
DESCRIPTION:Blake Real Estate Realtor\, Mercedes Ofalt\, has a passion for helping first time home buyers and on December 5th she will be presenting a FREE workshop along with a lender\, a home inspector and an insurance agent\, to help take some of the guess work out of the first time home buying process! \nThis event will be providing attendees with invaluable insight so they may be able to have a less stressful first time home buying experience. Local experts there to share tips\, strategies and answer questions! Buying your own home for less than renting makes sense and NOW is the time\, before interest rates and home prices go up! \nIf you have a friend\, family member or co-worker who has been wanting to own their own home\, please share this event with them! \nWhen: Saturday\, December 5th from 10:00AM – 12:00 PM\nWhere: SecurityNational Mortgage at 3689 Tampa Rd Ste #330 Oldsmar 34677 \nPlease RSVP to Kelly.Santos@SNMC.com\, as seating is limited and cookies and door prizes will be available!
URL:https://oldsmarconnect.com/event/your-road-to-owning-a-home-2/
LOCATION:SecurityNational Mortgage\, 3689 Tampa Road #330\, Oldsmar\, FL\, 34677\, United States
CATEGORIES:Real Estate
ATTACH;FMTTYPE=image/jpeg:https://oldsmarconnect.com/wp-content/uploads/2015/11/Your-Road-To-Owning-A-Home.jpg
END:VEVENT
BEGIN:VEVENT
DTSTART;TZID=America/New_York:20150822T100000
DTEND;TZID=America/New_York:20150822T113000
DTSTAMP:20260424T192730
CREATED:20150821T230250Z
LAST-MODIFIED:20150821T235101Z
UID:353-1440237600-1440243000@oldsmarconnect.com
SUMMARY:Your Road To Owning A Home
DESCRIPTION:​Join local experts to gain valuable insight on ways to make the First Time Home Buying Process less stressful!\nFree event sponsored by Mercedes Ofalt\, licensed Florida Realtor\, Blake Real Estate; Kelly Santos\, loan originator\, Security National Mortgage Company; accompanied by Iosa Home Inspections\, Brier Grieves Insurance and GreenLeaf Title Insurance Company.\n  \n\nSaturday\, August 22nd from 10am to 11:30am.\nAt SecurityNational Mortgage Company 3689 Tampa Rd Ste #330 Oldsmar 34677 – Behind Salt Rock Tavern.​\n\n\nSeating is limited!  Please RSVP to kelly.santos@snmc.com
URL:https://oldsmarconnect.com/event/your-road-to-owning-a-home/
LOCATION:FL
CATEGORIES:Business,Real Estate
END:VEVENT
END:VCALENDAR