BEGIN:VCALENDAR
VERSION:2.0
PRODID:-//Oldsmar Connect - ECPv6.15.13.1//NONSGML v1.0//EN
CALSCALE:GREGORIAN
METHOD:PUBLISH
X-WR-CALNAME:Oldsmar Connect
X-ORIGINAL-URL:https://oldsmarconnect.com
X-WR-CALDESC:Events for Oldsmar Connect
REFRESH-INTERVAL;VALUE=DURATION:PT1H
X-Robots-Tag:noindex
X-PUBLISHED-TTL:PT1H
BEGIN:VTIMEZONE
TZID:America/New_York
BEGIN:DAYLIGHT
TZOFFSETFROM:-0500
TZOFFSETTO:-0400
TZNAME:EDT
DTSTART:20140309T070000
END:DAYLIGHT
BEGIN:STANDARD
TZOFFSETFROM:-0400
TZOFFSETTO:-0500
TZNAME:EST
DTSTART:20141102T060000
END:STANDARD
BEGIN:DAYLIGHT
TZOFFSETFROM:-0500
TZOFFSETTO:-0400
TZNAME:EDT
DTSTART:20150308T070000
END:DAYLIGHT
BEGIN:STANDARD
TZOFFSETFROM:-0400
TZOFFSETTO:-0500
TZNAME:EST
DTSTART:20151101T060000
END:STANDARD
BEGIN:DAYLIGHT
TZOFFSETFROM:-0500
TZOFFSETTO:-0400
TZNAME:EDT
DTSTART:20160313T070000
END:DAYLIGHT
BEGIN:STANDARD
TZOFFSETFROM:-0400
TZOFFSETTO:-0500
TZNAME:EST
DTSTART:20161106T060000
END:STANDARD
BEGIN:DAYLIGHT
TZOFFSETFROM:-0500
TZOFFSETTO:-0400
TZNAME:EDT
DTSTART:20170312T070000
END:DAYLIGHT
BEGIN:STANDARD
TZOFFSETFROM:-0400
TZOFFSETTO:-0500
TZNAME:EST
DTSTART:20171105T060000
END:STANDARD
END:VTIMEZONE
BEGIN:VEVENT
DTSTART;TZID=America/New_York:20160904T180000
DTEND;TZID=America/New_York:20160904T220000
DTSTAMP:20260424T161110
CREATED:20160901T193922Z
LAST-MODIFIED:20160901T193922Z
UID:1923-1473012000-1473026400@oldsmarconnect.com
SUMMARY:Celebrate Oldsmar
DESCRIPTION:Sunday\, 9/4\nRadio Crime 6p.m. – 10 p.m.\nFireworks 9:30 p.m.
URL:https://oldsmarconnect.com/event/celebrate-oldsmar-2/
LOCATION:R.E. Olds Park\, 107 Shore Drive W\, Oldsmar\, FL\, 34677\, United States
CATEGORIES:Government,Party
END:VEVENT
BEGIN:VEVENT
DTSTART;TZID=America/New_York:20160903T100000
DTEND;TZID=America/New_York:20160903T220000
DTSTAMP:20260424T161110
CREATED:20160304T191746Z
LAST-MODIFIED:20160901T193723Z
UID:1458-1472896800-1472940000@oldsmarconnect.com
SUMMARY:Celebrate Oldsmar
DESCRIPTION:Live music\, fireworks\, and much more! \nSaturday\, Sept. 3\nParade 11 a.m. – Library\nCar Show 10 a.m. – 3 p.m. R. E. Olds Park\nFeeling Groovy 2 p.m. – 4 p.m.\nSuperstars 6 p.m. – 10 p.m.\nFireworks 9:30 p.m.
URL:https://oldsmarconnect.com/event/celebrate-oldsmar/
LOCATION:R.E. Olds Park\, 107 Shore Drive W\, Oldsmar\, FL\, 34677\, United States
CATEGORIES:Government,Party
ATTACH;FMTTYPE=image/jpeg:https://oldsmarconnect.com/wp-content/uploads/2016/03/celebrate-oldsmar-e1457119053891.jpg
END:VEVENT
BEGIN:VEVENT
DTSTART;TZID=America/New_York:20151005T180000
DTEND;TZID=America/New_York:20151005T200000
DTSTAMP:20260424T161110
CREATED:20150925T224851Z
LAST-MODIFIED:20150925T224851Z
UID:446-1444068000-1444075200@oldsmarconnect.com
SUMMARY:Kick Off Party
DESCRIPTION:Oldsmar/Safety Harbor’s Relay for Life\, American Cancer Society’s signature event\, will be holding their Kick Off Party for 2016 at Courtyard Marriott in Oldsmar on Monday\, October 5th at 6 pm. This party is open to anyone who would like to find out more about relay or would be interested in forming or joining a team. Our theme this year is “Paint Your World Purple”; purple being cancer survivor’s color. \nTo register or for more information\, visit www.relayforlife.org/oldsmarfl\nOur Community Manager is Melissa Weest at Melissa.Weest@cancer.org or 727-546-9822 ext. 7002
URL:https://oldsmarconnect.com/event/kick-off-party/
LOCATION:Courtyard Marriott\, 4014 Tampa Road\, Oldsmar\, FL\, 34677\, United States
CATEGORIES:Fundraiser,Party
END:VEVENT
BEGIN:VEVENT
DTSTART;TZID=America/New_York:20150502T090000
DTEND;TZID=America/New_York:20150502T160000
DTSTAMP:20260424T161110
CREATED:20150419T195018Z
LAST-MODIFIED:20150419T195018Z
UID:43-1430557200-1430582400@oldsmarconnect.com
SUMMARY:Blake Real Estate's Paddlefest in Safety Harbor
DESCRIPTION:Paddle racing event in Safety Harbor on May 2nd. \nMore info:  www.paddleforkids.com
URL:https://oldsmarconnect.com/event/blake-real-estates-paddlefest-in-safety-harbor/
LOCATION:Safety Harbor Marina\, 110 Veterans Memorial Ln\, Safety Harbor\, 34695
CATEGORIES:Charity,Fundraiser,Party,Sports
ATTACH;FMTTYPE=image/png:https://oldsmarconnect.com/wp-content/uploads/2015/04/PFK-Logo-BRE-sponsor-e1429458587635.png
END:VEVENT
END:VCALENDAR