BEGIN:VCALENDAR
VERSION:2.0
PRODID:-//Oldsmar Connect - ECPv6.15.13.1//NONSGML v1.0//EN
CALSCALE:GREGORIAN
METHOD:PUBLISH
X-WR-CALNAME:Oldsmar Connect
X-ORIGINAL-URL:https://oldsmarconnect.com
X-WR-CALDESC:Events for Oldsmar Connect
REFRESH-INTERVAL;VALUE=DURATION:PT1H
X-Robots-Tag:noindex
X-PUBLISHED-TTL:PT1H
BEGIN:VTIMEZONE
TZID:America/New_York
BEGIN:DAYLIGHT
TZOFFSETFROM:-0500
TZOFFSETTO:-0400
TZNAME:EDT
DTSTART:20140309T070000
END:DAYLIGHT
BEGIN:STANDARD
TZOFFSETFROM:-0400
TZOFFSETTO:-0500
TZNAME:EST
DTSTART:20141102T060000
END:STANDARD
BEGIN:DAYLIGHT
TZOFFSETFROM:-0500
TZOFFSETTO:-0400
TZNAME:EDT
DTSTART:20150308T070000
END:DAYLIGHT
BEGIN:STANDARD
TZOFFSETFROM:-0400
TZOFFSETTO:-0500
TZNAME:EST
DTSTART:20151101T060000
END:STANDARD
BEGIN:DAYLIGHT
TZOFFSETFROM:-0500
TZOFFSETTO:-0400
TZNAME:EDT
DTSTART:20160313T070000
END:DAYLIGHT
BEGIN:STANDARD
TZOFFSETFROM:-0400
TZOFFSETTO:-0500
TZNAME:EST
DTSTART:20161106T060000
END:STANDARD
BEGIN:DAYLIGHT
TZOFFSETFROM:-0500
TZOFFSETTO:-0400
TZNAME:EDT
DTSTART:20170312T070000
END:DAYLIGHT
BEGIN:STANDARD
TZOFFSETFROM:-0400
TZOFFSETTO:-0500
TZNAME:EST
DTSTART:20171105T060000
END:STANDARD
BEGIN:DAYLIGHT
TZOFFSETFROM:-0500
TZOFFSETTO:-0400
TZNAME:EDT
DTSTART:20180311T070000
END:DAYLIGHT
BEGIN:STANDARD
TZOFFSETFROM:-0400
TZOFFSETTO:-0500
TZNAME:EST
DTSTART:20181104T060000
END:STANDARD
BEGIN:DAYLIGHT
TZOFFSETFROM:-0500
TZOFFSETTO:-0400
TZNAME:EDT
DTSTART:20190310T070000
END:DAYLIGHT
BEGIN:STANDARD
TZOFFSETFROM:-0400
TZOFFSETTO:-0500
TZNAME:EST
DTSTART:20191103T060000
END:STANDARD
BEGIN:DAYLIGHT
TZOFFSETFROM:-0500
TZOFFSETTO:-0400
TZNAME:EDT
DTSTART:20200308T070000
END:DAYLIGHT
BEGIN:STANDARD
TZOFFSETFROM:-0400
TZOFFSETTO:-0500
TZNAME:EST
DTSTART:20201101T060000
END:STANDARD
END:VTIMEZONE
BEGIN:VEVENT
DTSTART;TZID=America/New_York:20190527T100000
DTEND;TZID=America/New_York:20190527T120000
DTSTAMP:20260424T161110
CREATED:20190412T185604Z
LAST-MODIFIED:20190412T193433Z
UID:4008-1558951200-1558958400@oldsmarconnect.com
SUMMARY:Memorial Day Ceremony
DESCRIPTION:Memorial Day Ceremony \nOldsmar City Officials invite the community to join them for their Memorial Day Ceremony on Monday\, May 27\, 2019\, 10:00 a.m. at Veterans Memorial Park\, located at 250 Shore Drive East in Oldsmar. This annual event will feature Keynote Speaker Paula Rodriguez\, Gold Star Sister of Marine LCPL William O. Frantz. Military ceremonies will also be performed. Light refreshments will follow the service.
URL:https://oldsmarconnect.com/event/memorial-day-ceremony/
CATEGORIES:Holidays
END:VEVENT
BEGIN:VEVENT
DTSTART;TZID=America/New_York:20151218T170000
DTEND;TZID=America/New_York:20151218T230000
DTSTAMP:20260424T161110
CREATED:20151218T223653Z
LAST-MODIFIED:20151218T223653Z
UID:969-1450458000-1450479600@oldsmarconnect.com
SUMMARY:Holiday Parent Night Out
DESCRIPTION:Ages 5-12 Parents\, get one more night of gift shopping in before the holidays while your children enjoy a night of organized fun. A pizza dinner is included in the activity price.
URL:https://oldsmarconnect.com/event/holiday-parent-night-out-2015/
LOCATION:Cypress Forest Recreation Center\, 650 Pine Ave\, Oldsmar\, 34677
CATEGORIES:Family,Holidays,Shopping
END:VEVENT
BEGIN:VEVENT
DTSTART;TZID=America/New_York:20151206T180000
DTEND;TZID=America/New_York:20151206T210000
DTSTAMP:20260424T161110
CREATED:20151201T215851Z
LAST-MODIFIED:20151201T225112Z
UID:858-1449424800-1449435600@oldsmarconnect.com
SUMMARY:Historic Oldsmar Self Guided Christmas Tour
DESCRIPTION:Presented by the Oldsmar Historical Society and People’s Centennial Task Force.\nVisit seven buildings that capture the history of Oldsmar:\n1. 101 State Street W\n2. 207 Exeter Street\n3. 101 Buckingham Avenue W\n4. 313 Park Boulevard\n5. 207 Buckingham Avenue E\n6. 3901 Tampa Road\n7. Hayes Park Village\, 313 Vista Cruise Lane \n$10 tickets can be purchased at the Oldsmar Historical Society Museum Tuesdays & Thursdays 10am-2pm.
URL:https://oldsmarconnect.com/event/historic-oldsmar-self-guided-christmas-tour-2015/
CATEGORIES:Family,Holidays
END:VEVENT
BEGIN:VEVENT
DTSTART;TZID=America/New_York:20151204T170000
DTEND;TZID=America/New_York:20151204T200000
DTSTAMP:20260424T161110
CREATED:20151201T215355Z
LAST-MODIFIED:20151201T215412Z
UID:856-1449248400-1449259200@oldsmarconnect.com
SUMMARY:Christmas Wonderland
DESCRIPTION:Join us for a giant snow slope\, inflatables\, pictures with Santa\, concessions and lots of family fun! For more information (813) 749-1260
URL:https://oldsmarconnect.com/event/christmas-wonderland-2015/
LOCATION:R.E. Olds Park\, 107 Shore Drive W\, Oldsmar\, FL\, 34677\, United States
CATEGORIES:Family,Holidays
END:VEVENT
BEGIN:VEVENT
DTSTART;TZID=America/New_York:20151204T073000
DTEND;TZID=America/New_York:20151204T090000
DTSTAMP:20260424T161110
CREATED:20151107T011143Z
LAST-MODIFIED:20151107T011306Z
UID:744-1449214200-1449219600@oldsmarconnect.com
SUMMARY:Annual Mayor’s Breakfast
DESCRIPTION:The Annual Mayor’s Breakfast will be held at the Safety Harbor Resort and Spa on December 4th from 7:30 AM – 9:00 AM. During the event\, coffee and a hot gourmet breakfast will be served\, an auction of decorated Christmas Trees will take place\, and prizes will be revealed. \nBenefiting our local community\, this event will provide holiday meals and gifts to children and families in Oldsmar and Safety Harbor. \nDonations for trees and door prizes are welcomed and appreciated. Please contact the hosting parties: the Upper Tampa Bay Chamber\, at 813-855-4233 or the Neighborhood Family Center\, at 727-791-8255 for more information.
URL:https://oldsmarconnect.com/event/annual-mayors-breakfast/
CATEGORIES:Charity,Family,Holidays
END:VEVENT
END:VCALENDAR