BEGIN:VCALENDAR
VERSION:2.0
PRODID:-//Oldsmar Connect - ECPv6.15.13.1//NONSGML v1.0//EN
CALSCALE:GREGORIAN
METHOD:PUBLISH
X-ORIGINAL-URL:https://oldsmarconnect.com
X-WR-CALDESC:Events for Oldsmar Connect
REFRESH-INTERVAL;VALUE=DURATION:PT1H
X-Robots-Tag:noindex
X-PUBLISHED-TTL:PT1H
BEGIN:VTIMEZONE
TZID:America/New_York
BEGIN:DAYLIGHT
TZOFFSETFROM:-0500
TZOFFSETTO:-0400
TZNAME:EDT
DTSTART:20140309T070000
END:DAYLIGHT
BEGIN:STANDARD
TZOFFSETFROM:-0400
TZOFFSETTO:-0500
TZNAME:EST
DTSTART:20141102T060000
END:STANDARD
BEGIN:DAYLIGHT
TZOFFSETFROM:-0500
TZOFFSETTO:-0400
TZNAME:EDT
DTSTART:20150308T070000
END:DAYLIGHT
BEGIN:STANDARD
TZOFFSETFROM:-0400
TZOFFSETTO:-0500
TZNAME:EST
DTSTART:20151101T060000
END:STANDARD
BEGIN:DAYLIGHT
TZOFFSETFROM:-0500
TZOFFSETTO:-0400
TZNAME:EDT
DTSTART:20160313T070000
END:DAYLIGHT
BEGIN:STANDARD
TZOFFSETFROM:-0400
TZOFFSETTO:-0500
TZNAME:EST
DTSTART:20161106T060000
END:STANDARD
END:VTIMEZONE
BEGIN:VEVENT
DTSTART;TZID=America/New_York:20151020T190000
DTEND;TZID=America/New_York:20151020T190000
DTSTAMP:20260424T190937
CREATED:20150513T194016Z
LAST-MODIFIED:20150513T194016Z
UID:105-1445367600-1445367600@oldsmarconnect.com
SUMMARY:City Council Meeting
DESCRIPTION:October 20\, 7:00 PM @ Council Chamber
URL:https://oldsmarconnect.com/event/city-council-meeting-10/
LOCATION:Council Chamber\, 100 State St. W\, Oldsmar\, 34677
CATEGORIES:Government
END:VEVENT
BEGIN:VEVENT
DTSTART;TZID=America/New_York:20151014T183000
DTEND;TZID=America/New_York:20151014T183000
DTSTAMP:20260424T190937
CREATED:20150513T193929Z
LAST-MODIFIED:20150513T193929Z
UID:104-1444847400-1444847400@oldsmarconnect.com
SUMMARY:Planning Board
DESCRIPTION:October 14\, 6:30 PM @ Council Chamber
URL:https://oldsmarconnect.com/event/planning-board-5/
LOCATION:Council Chamber\, 100 State St. W\, Oldsmar\, 34677
CATEGORIES:Government
END:VEVENT
BEGIN:VEVENT
DTSTART;TZID=America/New_York:20151012T180000
DTEND;TZID=America/New_York:20151012T180000
DTSTAMP:20260424T190937
CREATED:20150513T193638Z
LAST-MODIFIED:20150513T193638Z
UID:103-1444672800-1444672800@oldsmarconnect.com
SUMMARY:Leisure Services Advisory Board
DESCRIPTION:October 12\, 6:00 PM @ Municipal Services Center
URL:https://oldsmarconnect.com/event/leisure-services-advisory-board-5/
LOCATION:Municipal Services Center\, 300 Commerce Blvd\, Oldsmar\, 34677
CATEGORIES:Government
END:VEVENT
BEGIN:VEVENT
DTSTART;TZID=America/New_York:20151006T190000
DTEND;TZID=America/New_York:20151006T190000
DTSTAMP:20260424T190937
CREATED:20150513T193547Z
LAST-MODIFIED:20150513T193547Z
UID:102-1444158000-1444158000@oldsmarconnect.com
SUMMARY:City Council Meeting
DESCRIPTION:October 6\, 7:00 PM @ Council Chamber
URL:https://oldsmarconnect.com/event/city-council-meeting-9/
LOCATION:Council Chamber\, 100 State St. W\, Oldsmar\, 34677
CATEGORIES:Government
END:VEVENT
BEGIN:VEVENT
DTSTART;TZID=America/New_York:20151001T160000
DTEND;TZID=America/New_York:20151001T170000
DTSTAMP:20260424T190937
CREATED:20150513T193501Z
LAST-MODIFIED:20150513T193501Z
UID:101-1443715200-1443718800@oldsmarconnect.com
SUMMARY:Code Enforcement Board
DESCRIPTION:October 1\, 4:00 PM @ Council Chamber
URL:https://oldsmarconnect.com/event/code-enforcement-board-5/
LOCATION:Council Chamber\, 100 State St. W\, Oldsmar\, 34677
CATEGORIES:Government
END:VEVENT
BEGIN:VEVENT
DTSTART;TZID=America/New_York:20150928T160000
DTEND;TZID=America/New_York:20150928T170000
DTSTAMP:20260424T190937
CREATED:20150513T193333Z
LAST-MODIFIED:20150513T193333Z
UID:100-1443456000-1443459600@oldsmarconnect.com
SUMMARY:Veteran's Memorial Advisory Board
DESCRIPTION:September 28\, 4:00 PM @ Work Session Room
URL:https://oldsmarconnect.com/event/veterans-memorial-advisory-board/
LOCATION:Council Work Session Room\, 101 State Street West\, Oldsmar\, 34677
CATEGORIES:Government
END:VEVENT
BEGIN:VEVENT
DTSTART;TZID=America/New_York:20150923T183000
DTEND;TZID=America/New_York:20150923T190000
DTSTAMP:20260424T190937
CREATED:20150513T193236Z
LAST-MODIFIED:20150513T193236Z
UID:99-1443033000-1443034800@oldsmarconnect.com
SUMMARY:Board of Adjustment
DESCRIPTION:September 23\, 6:30 PM @ Council Chamber
URL:https://oldsmarconnect.com/event/board-of-adjustment-4/
LOCATION:Council Chamber\, 100 State St. W\, Oldsmar\, 34677
CATEGORIES:Government
END:VEVENT
BEGIN:VEVENT
DTSTART;TZID=America/New_York:20150919T090000
DTEND;TZID=America/New_York:20150919T130000
DTSTAMP:20260424T190937
CREATED:20150513T193148Z
LAST-MODIFIED:20150513T193148Z
UID:98-1442653200-1442667600@oldsmarconnect.com
SUMMARY:Fire and Rescue CPR Class
DESCRIPTION:Heartsaver AED Adult / Pediatric CPR Pre-Registration Required
URL:https://oldsmarconnect.com/event/fire-and-rescue-cpr-class/
LOCATION:Oldsmar Fire And Rescue\, 225 Pine Ave N\, Oldsmar\, 34677
CATEGORIES:Government
END:VEVENT
BEGIN:VEVENT
DTSTART;TZID=America/New_York:20150915T190000
DTEND;TZID=America/New_York:20150915T190000
DTSTAMP:20260424T190937
CREATED:20150513T193052Z
LAST-MODIFIED:20150513T193052Z
UID:97-1442343600-1442343600@oldsmarconnect.com
SUMMARY:City Council Meeting
DESCRIPTION:September 15\, 7:00 PM @ Council Chamber
URL:https://oldsmarconnect.com/event/city-council-meeting-8/
LOCATION:Council Chamber\, 100 State St. W\, Oldsmar\, 34677
CATEGORIES:Government
END:VEVENT
BEGIN:VEVENT
DTSTART;TZID=America/New_York:20150914T180000
DTEND;TZID=America/New_York:20150914T180000
DTSTAMP:20260424T190937
CREATED:20150513T193007Z
LAST-MODIFIED:20150513T193007Z
UID:96-1442253600-1442253600@oldsmarconnect.com
SUMMARY:Leisure Services Advisory Board
DESCRIPTION:September 14\, 6:00 PM @ Municipal Services Center
URL:https://oldsmarconnect.com/event/leisure-services-advisory-board-4/
LOCATION:Municipal Services Center\, 300 Commerce Blvd\, Oldsmar\, 34677
CATEGORIES:Government
END:VEVENT
BEGIN:VEVENT
DTSTART;TZID=America/New_York:20150909T183000
DTEND;TZID=America/New_York:20150909T183000
DTSTAMP:20260424T190937
CREATED:20150513T192918Z
LAST-MODIFIED:20150513T192918Z
UID:95-1441823400-1441823400@oldsmarconnect.com
SUMMARY:Planning Board
DESCRIPTION:September 9\, 6:30 PM @ Council Chamber
URL:https://oldsmarconnect.com/event/planning-board-4/
LOCATION:Council Chamber\, 100 State St. W\, Oldsmar\, 34677
CATEGORIES:Government
END:VEVENT
BEGIN:VEVENT
DTSTART;TZID=America/New_York:20150903T160000
DTEND;TZID=America/New_York:20150903T170000
DTSTAMP:20260424T190937
CREATED:20150513T192742Z
LAST-MODIFIED:20150513T192742Z
UID:93-1441296000-1441299600@oldsmarconnect.com
SUMMARY:Code Enforcement Board
DESCRIPTION:September 3\, 4:00 PM @ Council Chamber
URL:https://oldsmarconnect.com/event/code-enforcement-board-4/
LOCATION:Council Chamber\, 100 State St. W\, Oldsmar\, 34677
CATEGORIES:Government
END:VEVENT
BEGIN:VEVENT
DTSTART;TZID=America/New_York:20150901T190000
DTEND;TZID=America/New_York:20150901T190000
DTSTAMP:20260424T190937
CREATED:20150513T192701Z
LAST-MODIFIED:20150513T192701Z
UID:92-1441134000-1441134000@oldsmarconnect.com
SUMMARY:City Council Meeting
DESCRIPTION:September 1\, 7:00 PM @ Council Chamber
URL:https://oldsmarconnect.com/event/city-council-meeting-7/
LOCATION:Council Chamber\, 100 State St. W\, Oldsmar\, 34677
CATEGORIES:Government
END:VEVENT
BEGIN:VEVENT
DTSTART;TZID=America/New_York:20150826T183000
DTEND;TZID=America/New_York:20150826T183000
DTSTAMP:20260424T190937
CREATED:20150513T192528Z
LAST-MODIFIED:20150513T192528Z
UID:91-1440613800-1440613800@oldsmarconnect.com
SUMMARY:Board of Adjustment
DESCRIPTION:August 26\, 6:30 PM
URL:https://oldsmarconnect.com/event/board-of-adjustment-3/
CATEGORIES:Government
END:VEVENT
BEGIN:VEVENT
DTSTART;TZID=America/New_York:20150820T100000
DTEND;TZID=America/New_York:20150820T100000
DTSTAMP:20260424T190937
CREATED:20150513T192421Z
LAST-MODIFIED:20150513T192421Z
UID:90-1440064800-1440064800@oldsmarconnect.com
SUMMARY:Fire Fighter Pension Board
DESCRIPTION:August 20\, 10:00 AM @ Council Work Session Room
URL:https://oldsmarconnect.com/event/fire-fighter-pension-board-2/
LOCATION:Council Work Session Room\, 101 State Street West\, Oldsmar\, 34677
CATEGORIES:Government
END:VEVENT
BEGIN:VEVENT
DTSTART;TZID=America/New_York:20150818T190000
DTEND;TZID=America/New_York:20150818T190000
DTSTAMP:20260424T190937
CREATED:20150513T192332Z
LAST-MODIFIED:20150513T192332Z
UID:89-1439924400-1439924400@oldsmarconnect.com
SUMMARY:City Council Meeting
DESCRIPTION:August 18\, 7:00 PM @ Council Chamber
URL:https://oldsmarconnect.com/event/city-council-meeting-6/
LOCATION:Council Chamber\, 100 State St. W\, Oldsmar\, 34677
CATEGORIES:Government
END:VEVENT
BEGIN:VEVENT
DTSTART;TZID=America/New_York:20150812T183000
DTEND;TZID=America/New_York:20150812T183000
DTSTAMP:20260424T190937
CREATED:20150513T192247Z
LAST-MODIFIED:20150513T192247Z
UID:88-1439404200-1439404200@oldsmarconnect.com
SUMMARY:Planning Board
DESCRIPTION:August 12\, 6:30 PM @ Council Chamber
URL:https://oldsmarconnect.com/event/planning-board-3/
LOCATION:Council Chamber\, 100 State St. W\, Oldsmar\, 34677
CATEGORIES:Government
END:VEVENT
BEGIN:VEVENT
DTSTART;TZID=America/New_York:20150810T180000
DTEND;TZID=America/New_York:20150810T180000
DTSTAMP:20260424T190937
CREATED:20150513T192149Z
LAST-MODIFIED:20150513T192149Z
UID:87-1439229600-1439229600@oldsmarconnect.com
SUMMARY:Leisure Services Advisory Board
DESCRIPTION:August 10\, 6:00 PM @ Municipal Services Center
URL:https://oldsmarconnect.com/event/leisure-services-advisory-board-3/
LOCATION:Municipal Services Center\, 300 Commerce Blvd\, Oldsmar\, 34677
CATEGORIES:Government
END:VEVENT
BEGIN:VEVENT
DTSTART;TZID=America/New_York:20150806T160000
DTEND;TZID=America/New_York:20150806T170000
DTSTAMP:20260424T190937
CREATED:20150513T192057Z
LAST-MODIFIED:20150513T192057Z
UID:86-1438876800-1438880400@oldsmarconnect.com
SUMMARY:Code Enforcement Board
DESCRIPTION:August 6\, 4:00 PM @ Council Chamber
URL:https://oldsmarconnect.com/event/code-enforcement-board-3/
LOCATION:Council Chamber\, 100 State St. W\, Oldsmar\, 34677
CATEGORIES:Government
END:VEVENT
BEGIN:VEVENT
DTSTART;TZID=America/New_York:20150804T190000
DTEND;TZID=America/New_York:20150804T190000
DTSTAMP:20260424T190937
CREATED:20150513T192004Z
LAST-MODIFIED:20150513T192004Z
UID:85-1438714800-1438714800@oldsmarconnect.com
SUMMARY:City Council Meeting
DESCRIPTION:August 4\, 7:00 PM @ Council Chamber
URL:https://oldsmarconnect.com/event/city-council-meeting-5/
LOCATION:Council Chamber\, 100 State St. W\, Oldsmar\, 34677
CATEGORIES:Government
END:VEVENT
BEGIN:VEVENT
DTSTART;TZID=America/New_York:20150722T183000
DTEND;TZID=America/New_York:20150722T183000
DTSTAMP:20260424T190937
CREATED:20150513T174258Z
LAST-MODIFIED:20150513T174258Z
UID:84-1437589800-1437589800@oldsmarconnect.com
SUMMARY:Board of Adjustment
DESCRIPTION:July 22\, 6:30 PM @ Council Chamber
URL:https://oldsmarconnect.com/event/board-of-adjustment-2/
LOCATION:Council Chamber\, 100 State St. W\, Oldsmar\, 34677
CATEGORIES:Government
END:VEVENT
BEGIN:VEVENT
DTSTART;TZID=America/New_York:20150721T190000
DTEND;TZID=America/New_York:20150721T190000
DTSTAMP:20260424T190937
CREATED:20150513T174206Z
LAST-MODIFIED:20150513T174206Z
UID:83-1437505200-1437505200@oldsmarconnect.com
SUMMARY:City Council Meeting
DESCRIPTION:July 21\, 7:00 PM @ Council Chamber
URL:https://oldsmarconnect.com/event/city-council-meeting-4/
LOCATION:Council Chamber\, 100 State St. W\, Oldsmar\, 34677
CATEGORIES:Government
END:VEVENT
BEGIN:VEVENT
DTSTART;TZID=America/New_York:20150718T090000
DTEND;TZID=America/New_York:20150718T130000
DTSTAMP:20260424T190937
CREATED:20150513T174054Z
LAST-MODIFIED:20150513T174054Z
UID:81-1437210000-1437224400@oldsmarconnect.com
SUMMARY:Fir Rescue CPR Class
DESCRIPTION:July 18\, 9:00 AM - 1:00 PM @ Oldsmar Fire Rescue \nHeartsaver AED Adult / Pediatric CPR Pre-Registration Required
URL:https://oldsmarconnect.com/event/fir-rescue-cpr-class/
LOCATION:Oldsmar Fire And Rescue\, 225 Pine Ave N\, Oldsmar\, 34677
CATEGORIES:Government
END:VEVENT
BEGIN:VEVENT
DTSTART;TZID=America/New_York:20150713T180000
DTEND;TZID=America/New_York:20150713T180000
DTSTAMP:20260424T190937
CREATED:20150513T173840Z
LAST-MODIFIED:20150513T173840Z
UID:78-1436810400-1436810400@oldsmarconnect.com
SUMMARY:Leisure Services Advisory Board
DESCRIPTION:July 13\, 6:00 PM @ Municipal Services Center
URL:https://oldsmarconnect.com/event/leisure-services-advisory-board-2/
LOCATION:Municipal Services Center\, 300 Commerce Blvd\, Oldsmar\, 34677
CATEGORIES:Government
END:VEVENT
BEGIN:VEVENT
DTSTART;TZID=America/New_York:20150708T183000
DTEND;TZID=America/New_York:20150708T183000
DTSTAMP:20260424T190937
CREATED:20150513T173638Z
LAST-MODIFIED:20150513T173638Z
UID:77-1436380200-1436380200@oldsmarconnect.com
SUMMARY:Planning Board
DESCRIPTION:July 8\, 6:30 PM @ Council Chamber
URL:https://oldsmarconnect.com/event/planning-board-2/
LOCATION:Council Chamber\, 100 State St. W\, Oldsmar\, 34677
CATEGORIES:Government
END:VEVENT
BEGIN:VEVENT
DTSTART;TZID=America/New_York:20150707T190000
DTEND;TZID=America/New_York:20150707T190000
DTSTAMP:20260424T190937
CREATED:20150513T173545Z
LAST-MODIFIED:20150513T173545Z
UID:76-1436295600-1436295600@oldsmarconnect.com
SUMMARY:City Council Meeting
DESCRIPTION:July 7\, 7:00 PM @ Council Chamber
URL:https://oldsmarconnect.com/event/city-council-meeting-3/
LOCATION:Council Chamber\, 100 State St. W\, Oldsmar\, 34677
CATEGORIES:Government
END:VEVENT
BEGIN:VEVENT
DTSTART;VALUE=DATE:20150703
DTEND;VALUE=DATE:20150704
DTSTAMP:20260424T190937
CREATED:20150513T173349Z
LAST-MODIFIED:20150513T173444Z
UID:74-1435881600-1435967999@oldsmarconnect.com
SUMMARY:Closed For The Holiday
DESCRIPTION:July 3\, All Day \nAll City Buildings\, Facilities & Library are closed for the Holiday.
URL:https://oldsmarconnect.com/event/closed-for-the-holiday/
CATEGORIES:Government
END:VEVENT
BEGIN:VEVENT
DTSTART;TZID=America/New_York:20150702T160000
DTEND;TZID=America/New_York:20150702T170000
DTSTAMP:20260424T190937
CREATED:20150513T173306Z
LAST-MODIFIED:20150513T173306Z
UID:73-1435852800-1435856400@oldsmarconnect.com
SUMMARY:Code Enforcement Board
DESCRIPTION:July 2\, 4:00 PM @ Council Chamber
URL:https://oldsmarconnect.com/event/code-enforcement-board-2/
LOCATION:Council Chamber\, 100 State St. W\, Oldsmar\, 34677
CATEGORIES:Government
END:VEVENT
BEGIN:VEVENT
DTSTART;TZID=America/New_York:20150624T183000
DTEND;TZID=America/New_York:20150624T183000
DTSTAMP:20260424T190937
CREATED:20150513T173104Z
LAST-MODIFIED:20150513T173104Z
UID:72-1435170600-1435170600@oldsmarconnect.com
SUMMARY:Board of Adjustment
DESCRIPTION:June 24\, 6:30 PM @ Council Chamber
URL:https://oldsmarconnect.com/event/board-of-adjustment/
LOCATION:Council Chamber\, 100 State St. W\, Oldsmar\, 34677
CATEGORIES:Government
END:VEVENT
BEGIN:VEVENT
DTSTART;TZID=America/New_York:20150624T140000
DTEND;TZID=America/New_York:20150624T140000
DTSTAMP:20260424T190937
CREATED:20150513T173000Z
LAST-MODIFIED:20150513T173000Z
UID:71-1435154400-1435154400@oldsmarconnect.com
SUMMARY:Fire Fighter Pension Board
DESCRIPTION:June 24\, 2:00 PM @ Council Work Session Room
URL:https://oldsmarconnect.com/event/fire-fighter-pension-board/
LOCATION:Council Work Session Room\, 101 State Street West\, Oldsmar\, 34677
CATEGORIES:Government
END:VEVENT
END:VCALENDAR