BEGIN:VCALENDAR
VERSION:2.0
PRODID:-//Oldsmar Connect - ECPv6.15.13.1//NONSGML v1.0//EN
CALSCALE:GREGORIAN
METHOD:PUBLISH
X-ORIGINAL-URL:https://oldsmarconnect.com
X-WR-CALDESC:Events for Oldsmar Connect
REFRESH-INTERVAL;VALUE=DURATION:PT1H
X-Robots-Tag:noindex
X-PUBLISHED-TTL:PT1H
BEGIN:VTIMEZONE
TZID:America/New_York
BEGIN:DAYLIGHT
TZOFFSETFROM:-0500
TZOFFSETTO:-0400
TZNAME:EDT
DTSTART:20140309T070000
END:DAYLIGHT
BEGIN:STANDARD
TZOFFSETFROM:-0400
TZOFFSETTO:-0500
TZNAME:EST
DTSTART:20141102T060000
END:STANDARD
BEGIN:DAYLIGHT
TZOFFSETFROM:-0500
TZOFFSETTO:-0400
TZNAME:EDT
DTSTART:20150308T070000
END:DAYLIGHT
BEGIN:STANDARD
TZOFFSETFROM:-0400
TZOFFSETTO:-0500
TZNAME:EST
DTSTART:20151101T060000
END:STANDARD
BEGIN:DAYLIGHT
TZOFFSETFROM:-0500
TZOFFSETTO:-0400
TZNAME:EDT
DTSTART:20160313T070000
END:DAYLIGHT
BEGIN:STANDARD
TZOFFSETFROM:-0400
TZOFFSETTO:-0500
TZNAME:EST
DTSTART:20161106T060000
END:STANDARD
BEGIN:DAYLIGHT
TZOFFSETFROM:-0500
TZOFFSETTO:-0400
TZNAME:EDT
DTSTART:20170312T070000
END:DAYLIGHT
BEGIN:STANDARD
TZOFFSETFROM:-0400
TZOFFSETTO:-0500
TZNAME:EST
DTSTART:20171105T060000
END:STANDARD
END:VTIMEZONE
BEGIN:VEVENT
DTSTART;TZID=America/New_York:20160904T180000
DTEND;TZID=America/New_York:20160904T220000
DTSTAMP:20260424T161219
CREATED:20160901T193922Z
LAST-MODIFIED:20160901T193922Z
UID:1923-1473012000-1473026400@oldsmarconnect.com
SUMMARY:Celebrate Oldsmar
DESCRIPTION:Sunday\, 9/4\nRadio Crime 6p.m. – 10 p.m.\nFireworks 9:30 p.m.
URL:https://oldsmarconnect.com/event/celebrate-oldsmar-2/
LOCATION:R.E. Olds Park\, 107 Shore Drive W\, Oldsmar\, FL\, 34677\, United States
CATEGORIES:Government,Party
END:VEVENT
BEGIN:VEVENT
DTSTART;TZID=America/New_York:20160903T100000
DTEND;TZID=America/New_York:20160903T220000
DTSTAMP:20260424T161219
CREATED:20160304T191746Z
LAST-MODIFIED:20160901T193723Z
UID:1458-1472896800-1472940000@oldsmarconnect.com
SUMMARY:Celebrate Oldsmar
DESCRIPTION:Live music\, fireworks\, and much more! \nSaturday\, Sept. 3\nParade 11 a.m. – Library\nCar Show 10 a.m. – 3 p.m. R. E. Olds Park\nFeeling Groovy 2 p.m. – 4 p.m.\nSuperstars 6 p.m. – 10 p.m.\nFireworks 9:30 p.m.
URL:https://oldsmarconnect.com/event/celebrate-oldsmar/
LOCATION:R.E. Olds Park\, 107 Shore Drive W\, Oldsmar\, FL\, 34677\, United States
CATEGORIES:Government,Party
ATTACH;FMTTYPE=image/jpeg:https://oldsmarconnect.com/wp-content/uploads/2016/03/celebrate-oldsmar-e1457119053891.jpg
END:VEVENT
BEGIN:VEVENT
DTSTART;TZID=America/New_York:20160808T170000
DTEND;TZID=America/New_York:20160808T190000
DTSTAMP:20260424T161219
CREATED:20160802T174156Z
LAST-MODIFIED:20160802T174156Z
UID:1854-1470675600-1470682800@oldsmarconnect.com
SUMMARY:Public Information Meeting - Harbor Palms Neighborhood Infrastructure Improvements
DESCRIPTION:Public Information Meeting – Harbor Palms Neighborhood Infrastructure Improvements \nSheffield Park – Shelter 2\n1923 Cutty Bay Court\, Oldsmar \nMonday\, August 8\, 2016\n5:00 – 7:00 p.m. \nThe Public is invited to a Public Information Meeting with City of Oldsmar Staff Members and Consultant to discuss improvements and answer questions relating to the Harbor Palms Neighborhood Infrastructure Improvement Project. \n• Sanitary Sewer Improvements\n• Water Line Improvements\n• Water Service Improvements\n• Storm Water Conveyance Improvements\n• Roadway Improvements \nRAIN DATE: Tuesday\, August 9\, 2016 \nFor meeting details\, please visit http://bit.ly/PIMtgHarborPalms
URL:https://oldsmarconnect.com/event/public-information-meeting-harbor-palms-neighborhood-infrastructure-improvements/
LOCATION:FL
CATEGORIES:Government
END:VEVENT
BEGIN:VEVENT
DTSTART;VALUE=DATE:20151224
DTEND;VALUE=DATE:20151226
DTSTAMP:20260424T161219
CREATED:20150513T201023Z
LAST-MODIFIED:20150513T201023Z
UID:123-1450915200-1451087999@oldsmarconnect.com
SUMMARY:Closed for the Holiday
DESCRIPTION:December 24 - December 25 \nAll City Buildings\, Facilities & Library are closed for the Holiday.
URL:https://oldsmarconnect.com/event/closed-for-the-holiday-3/
LOCATION:FL
CATEGORIES:Government
END:VEVENT
BEGIN:VEVENT
DTSTART;TZID=America/New_York:20151216T183000
DTEND;TZID=America/New_York:20151216T190000
DTSTAMP:20260424T161219
CREATED:20150513T200944Z
LAST-MODIFIED:20150513T200944Z
UID:122-1450290600-1450292400@oldsmarconnect.com
SUMMARY:Board of Adjustment - Holiday Date Change
DESCRIPTION:December 16\, 6:30 PM
URL:https://oldsmarconnect.com/event/board-of-adjustment-holiday-date-change-2/
LOCATION:FL
CATEGORIES:Government
END:VEVENT
BEGIN:VEVENT
DTSTART;TZID=America/New_York:20151215T190000
DTEND;TZID=America/New_York:20151215T190000
DTSTAMP:20260424T161219
CREATED:20150513T200903Z
LAST-MODIFIED:20150513T200903Z
UID:121-1450206000-1450206000@oldsmarconnect.com
SUMMARY:City Council Meeting
DESCRIPTION:December 15\, 7:00 PM @ Council Chamber
URL:https://oldsmarconnect.com/event/city-council-meeting-14/
LOCATION:Council Chamber\, 100 State St. W\, Oldsmar\, 34677
CATEGORIES:Government
END:VEVENT
BEGIN:VEVENT
DTSTART;TZID=America/New_York:20151214T180000
DTEND;TZID=America/New_York:20151214T190000
DTSTAMP:20260424T161219
CREATED:20150513T200824Z
LAST-MODIFIED:20150513T200824Z
UID:120-1450116000-1450119600@oldsmarconnect.com
SUMMARY:Leisure Services Advisory Board
DESCRIPTION:December 14\, 6:00 PM
URL:https://oldsmarconnect.com/event/leisure-services-advisory-board-7/
LOCATION:FL
CATEGORIES:Government
END:VEVENT
BEGIN:VEVENT
DTSTART;TZID=America/New_York:20151209T183000
DTEND;TZID=America/New_York:20151209T190000
DTSTAMP:20260424T161219
CREATED:20150513T200649Z
LAST-MODIFIED:20150513T200649Z
UID:119-1449685800-1449687600@oldsmarconnect.com
SUMMARY:Planning Board
DESCRIPTION:December 9\, 6:30 PM @ Council Chamber
URL:https://oldsmarconnect.com/event/planning-board-7/
LOCATION:Council Chamber\, 100 State St. W\, Oldsmar\, 34677
CATEGORIES:Government
END:VEVENT
BEGIN:VEVENT
DTSTART;TZID=America/New_York:20151203T160000
DTEND;TZID=America/New_York:20151203T170000
DTSTAMP:20260424T161219
CREATED:20150513T200608Z
LAST-MODIFIED:20150513T200608Z
UID:118-1449158400-1449162000@oldsmarconnect.com
SUMMARY:Code Enforcement Board
DESCRIPTION:December 3\, 4:00 PM @ Council Chamber
URL:https://oldsmarconnect.com/event/code-enforcement-board-7/
LOCATION:Council Chamber\, 100 State St. W\, Oldsmar\, 34677
CATEGORIES:Government
END:VEVENT
BEGIN:VEVENT
DTSTART;TZID=America/New_York:20151201T190000
DTEND;TZID=America/New_York:20151201T190000
DTSTAMP:20260424T161219
CREATED:20150513T200531Z
LAST-MODIFIED:20150513T200531Z
UID:117-1448996400-1448996400@oldsmarconnect.com
SUMMARY:City Council Meeting
DESCRIPTION:December 1\, 7:00 PM @ Council Chamber
URL:https://oldsmarconnect.com/event/city-council-meeting-13/
LOCATION:Council Chamber\, 100 State St. W\, Oldsmar\, 34677
CATEGORIES:Government
END:VEVENT
BEGIN:VEVENT
DTSTART;TZID=America/New_York:20151130T140000
DTEND;TZID=America/New_York:20151130T140000
DTSTAMP:20260424T161219
CREATED:20150513T200422Z
LAST-MODIFIED:20150513T200422Z
UID:116-1448892000-1448892000@oldsmarconnect.com
SUMMARY:Fire Fighter Pension Board
DESCRIPTION:November 30\, 2:00 PM @ Council Work Session Room
URL:https://oldsmarconnect.com/event/fire-fighter-pension-board-3/
LOCATION:Council Work Session Room\, 101 State Street West\, Oldsmar\, 34677
CATEGORIES:Government
END:VEVENT
BEGIN:VEVENT
DTSTART;VALUE=DATE:20151126
DTEND;VALUE=DATE:20151128
DTSTAMP:20260424T161219
CREATED:20150513T200337Z
LAST-MODIFIED:20150513T200337Z
UID:115-1448496000-1448668799@oldsmarconnect.com
SUMMARY:Closed for Holiday
DESCRIPTION:November 26 - November 27 \nAll City Buildings\, Facilities & Library are closed for the Holiday.
URL:https://oldsmarconnect.com/event/closed-for-holiday/
LOCATION:FL
CATEGORIES:Government
END:VEVENT
BEGIN:VEVENT
DTSTART;TZID=America/New_York:20151121T090000
DTEND;TZID=America/New_York:20151121T130000
DTSTAMP:20260424T161219
CREATED:20150513T200255Z
LAST-MODIFIED:20150513T200255Z
UID:114-1448096400-1448110800@oldsmarconnect.com
SUMMARY:Fire Rescue CPR Class
DESCRIPTION:November 21\, 9:00 AM - 1:00 PM @ Oldsmar Fire Rescue \nHeartsaver AED Adult / Pediatric CPR Pre-Registration Required
URL:https://oldsmarconnect.com/event/fire-rescue-cpr-class/
LOCATION:Oldsmar Fire And Rescue\, 225 Pine Ave N\, Oldsmar\, 34677
CATEGORIES:Government
END:VEVENT
BEGIN:VEVENT
DTSTART;TZID=America/New_York:20151118T183000
DTEND;TZID=America/New_York:20151118T190000
DTSTAMP:20260424T161219
CREATED:20150513T200211Z
LAST-MODIFIED:20150513T200211Z
UID:112-1447871400-1447873200@oldsmarconnect.com
SUMMARY:Board of Adjustment - Holiday Date Change
DESCRIPTION:November 18\, 6:30 PM @ Council Chamber
URL:https://oldsmarconnect.com/event/board-of-adjustment-holiday-date-change/
LOCATION:Council Chamber\, 100 State St. W\, Oldsmar\, 34677
CATEGORIES:Government
END:VEVENT
BEGIN:VEVENT
DTSTART;TZID=America/New_York:20151117T190000
DTEND;TZID=America/New_York:20151117T190000
DTSTAMP:20260424T161219
CREATED:20150513T200122Z
LAST-MODIFIED:20150513T200122Z
UID:111-1447786800-1447786800@oldsmarconnect.com
SUMMARY:City Council Meeting
DESCRIPTION:November 17\, 7:00 PM @ Council Chamber
URL:https://oldsmarconnect.com/event/city-council-meeting-12/
LOCATION:Council Chamber\, 100 State St. W\, Oldsmar\, 34677
CATEGORIES:Government
END:VEVENT
BEGIN:VEVENT
DTSTART;TZID=America/New_York:20151111T183000
DTEND;TZID=America/New_York:20151111T190000
DTSTAMP:20260424T161219
CREATED:20150513T200027Z
LAST-MODIFIED:20150513T200027Z
UID:110-1447266600-1447268400@oldsmarconnect.com
SUMMARY:Planning Board
DESCRIPTION:November 11\, 6:30 PM @ Council Chamber
URL:https://oldsmarconnect.com/event/planning-board-6/
LOCATION:Council Chamber\, 100 State St. W\, Oldsmar\, 34677
CATEGORIES:Government
END:VEVENT
BEGIN:VEVENT
DTSTART;TZID=America/New_York:20151109T180000
DTEND;TZID=America/New_York:20151109T180000
DTSTAMP:20260424T161219
CREATED:20150513T195940Z
LAST-MODIFIED:20150513T195940Z
UID:109-1447092000-1447092000@oldsmarconnect.com
SUMMARY:Leisure Services Advisory Board
DESCRIPTION:November 9\, 6:00 PM @ Municipal Services Center
URL:https://oldsmarconnect.com/event/leisure-services-advisory-board-6/
LOCATION:Municipal Services Center\, 300 Commerce Blvd\, Oldsmar\, 34677
CATEGORIES:Government
END:VEVENT
BEGIN:VEVENT
DTSTART;TZID=America/New_York:20151105T160000
DTEND;TZID=America/New_York:20151105T170000
DTSTAMP:20260424T161219
CREATED:20150513T195315Z
LAST-MODIFIED:20150513T195315Z
UID:108-1446739200-1446742800@oldsmarconnect.com
SUMMARY:Code Enforcement Board
DESCRIPTION:November 5\, 4:00 PM @ Council Chamber
URL:https://oldsmarconnect.com/event/code-enforcement-board-6/
LOCATION:Council Chamber\, 100 State St. W\, Oldsmar\, 34677
CATEGORIES:Government
END:VEVENT
BEGIN:VEVENT
DTSTART;TZID=America/New_York:20151103T190000
DTEND;TZID=America/New_York:20151103T190000
DTSTAMP:20260424T161219
CREATED:20150513T195225Z
LAST-MODIFIED:20150513T195225Z
UID:107-1446577200-1446577200@oldsmarconnect.com
SUMMARY:City Council Meeting
DESCRIPTION:November 3\, 7:00 PM @ Council Chamber
URL:https://oldsmarconnect.com/event/city-council-meeting-11/
LOCATION:Council Chamber\, 100 State St. W\, Oldsmar\, 34677
CATEGORIES:Government
END:VEVENT
BEGIN:VEVENT
DTSTART;TZID=America/New_York:20151028T183000
DTEND;TZID=America/New_York:20151028T183000
DTSTAMP:20260424T161219
CREATED:20150513T194110Z
LAST-MODIFIED:20150513T194110Z
UID:106-1446057000-1446057000@oldsmarconnect.com
SUMMARY:Board of Adjustment
DESCRIPTION:October 28\, 6:30 PM @ Council Chamber
URL:https://oldsmarconnect.com/event/board-of-adjustment-5/
LOCATION:Council Chamber\, 100 State St. W\, Oldsmar\, 34677
CATEGORIES:Government
END:VEVENT
BEGIN:VEVENT
DTSTART;TZID=America/New_York:20151020T190000
DTEND;TZID=America/New_York:20151020T190000
DTSTAMP:20260424T161219
CREATED:20150513T194016Z
LAST-MODIFIED:20150513T194016Z
UID:105-1445367600-1445367600@oldsmarconnect.com
SUMMARY:City Council Meeting
DESCRIPTION:October 20\, 7:00 PM @ Council Chamber
URL:https://oldsmarconnect.com/event/city-council-meeting-10/
LOCATION:Council Chamber\, 100 State St. W\, Oldsmar\, 34677
CATEGORIES:Government
END:VEVENT
BEGIN:VEVENT
DTSTART;TZID=America/New_York:20151014T183000
DTEND;TZID=America/New_York:20151014T183000
DTSTAMP:20260424T161219
CREATED:20150513T193929Z
LAST-MODIFIED:20150513T193929Z
UID:104-1444847400-1444847400@oldsmarconnect.com
SUMMARY:Planning Board
DESCRIPTION:October 14\, 6:30 PM @ Council Chamber
URL:https://oldsmarconnect.com/event/planning-board-5/
LOCATION:Council Chamber\, 100 State St. W\, Oldsmar\, 34677
CATEGORIES:Government
END:VEVENT
BEGIN:VEVENT
DTSTART;TZID=America/New_York:20151012T180000
DTEND;TZID=America/New_York:20151012T180000
DTSTAMP:20260424T161219
CREATED:20150513T193638Z
LAST-MODIFIED:20150513T193638Z
UID:103-1444672800-1444672800@oldsmarconnect.com
SUMMARY:Leisure Services Advisory Board
DESCRIPTION:October 12\, 6:00 PM @ Municipal Services Center
URL:https://oldsmarconnect.com/event/leisure-services-advisory-board-5/
LOCATION:Municipal Services Center\, 300 Commerce Blvd\, Oldsmar\, 34677
CATEGORIES:Government
END:VEVENT
BEGIN:VEVENT
DTSTART;TZID=America/New_York:20151006T190000
DTEND;TZID=America/New_York:20151006T190000
DTSTAMP:20260424T161219
CREATED:20150513T193547Z
LAST-MODIFIED:20150513T193547Z
UID:102-1444158000-1444158000@oldsmarconnect.com
SUMMARY:City Council Meeting
DESCRIPTION:October 6\, 7:00 PM @ Council Chamber
URL:https://oldsmarconnect.com/event/city-council-meeting-9/
LOCATION:Council Chamber\, 100 State St. W\, Oldsmar\, 34677
CATEGORIES:Government
END:VEVENT
BEGIN:VEVENT
DTSTART;TZID=America/New_York:20151001T160000
DTEND;TZID=America/New_York:20151001T170000
DTSTAMP:20260424T161219
CREATED:20150513T193501Z
LAST-MODIFIED:20150513T193501Z
UID:101-1443715200-1443718800@oldsmarconnect.com
SUMMARY:Code Enforcement Board
DESCRIPTION:October 1\, 4:00 PM @ Council Chamber
URL:https://oldsmarconnect.com/event/code-enforcement-board-5/
LOCATION:Council Chamber\, 100 State St. W\, Oldsmar\, 34677
CATEGORIES:Government
END:VEVENT
BEGIN:VEVENT
DTSTART;TZID=America/New_York:20150928T160000
DTEND;TZID=America/New_York:20150928T170000
DTSTAMP:20260424T161219
CREATED:20150513T193333Z
LAST-MODIFIED:20150513T193333Z
UID:100-1443456000-1443459600@oldsmarconnect.com
SUMMARY:Veteran's Memorial Advisory Board
DESCRIPTION:September 28\, 4:00 PM @ Work Session Room
URL:https://oldsmarconnect.com/event/veterans-memorial-advisory-board/
LOCATION:Council Work Session Room\, 101 State Street West\, Oldsmar\, 34677
CATEGORIES:Government
END:VEVENT
BEGIN:VEVENT
DTSTART;TZID=America/New_York:20150923T183000
DTEND;TZID=America/New_York:20150923T190000
DTSTAMP:20260424T161219
CREATED:20150513T193236Z
LAST-MODIFIED:20150513T193236Z
UID:99-1443033000-1443034800@oldsmarconnect.com
SUMMARY:Board of Adjustment
DESCRIPTION:September 23\, 6:30 PM @ Council Chamber
URL:https://oldsmarconnect.com/event/board-of-adjustment-4/
LOCATION:Council Chamber\, 100 State St. W\, Oldsmar\, 34677
CATEGORIES:Government
END:VEVENT
BEGIN:VEVENT
DTSTART;TZID=America/New_York:20150919T090000
DTEND;TZID=America/New_York:20150919T130000
DTSTAMP:20260424T161219
CREATED:20150513T193148Z
LAST-MODIFIED:20150513T193148Z
UID:98-1442653200-1442667600@oldsmarconnect.com
SUMMARY:Fire and Rescue CPR Class
DESCRIPTION:Heartsaver AED Adult / Pediatric CPR Pre-Registration Required
URL:https://oldsmarconnect.com/event/fire-and-rescue-cpr-class/
LOCATION:Oldsmar Fire And Rescue\, 225 Pine Ave N\, Oldsmar\, 34677
CATEGORIES:Government
END:VEVENT
BEGIN:VEVENT
DTSTART;TZID=America/New_York:20150915T190000
DTEND;TZID=America/New_York:20150915T190000
DTSTAMP:20260424T161219
CREATED:20150513T193052Z
LAST-MODIFIED:20150513T193052Z
UID:97-1442343600-1442343600@oldsmarconnect.com
SUMMARY:City Council Meeting
DESCRIPTION:September 15\, 7:00 PM @ Council Chamber
URL:https://oldsmarconnect.com/event/city-council-meeting-8/
LOCATION:Council Chamber\, 100 State St. W\, Oldsmar\, 34677
CATEGORIES:Government
END:VEVENT
BEGIN:VEVENT
DTSTART;TZID=America/New_York:20150914T180000
DTEND;TZID=America/New_York:20150914T180000
DTSTAMP:20260424T161219
CREATED:20150513T193007Z
LAST-MODIFIED:20150513T193007Z
UID:96-1442253600-1442253600@oldsmarconnect.com
SUMMARY:Leisure Services Advisory Board
DESCRIPTION:September 14\, 6:00 PM @ Municipal Services Center
URL:https://oldsmarconnect.com/event/leisure-services-advisory-board-4/
LOCATION:Municipal Services Center\, 300 Commerce Blvd\, Oldsmar\, 34677
CATEGORIES:Government
END:VEVENT
END:VCALENDAR